BEGIN:VCALENDAR
VERSION:2.0
PRODID:icalendar-ruby
CALSCALE:GREGORIAN
METHOD:PUBLISH
BEGIN:VEVENT
DTSTAMP:20260423T002712Z
UID:11-297916@zoarwv.com
DTSTART:20261011T134500Z
DTEND:20261011T144500Z
CLASS:PUBLIC
CREATED:20260422T202333
DESCRIPTION:Adult class in the Sanctuary\nKids classes in the classrooms - 
 nursery\, grades K-2\, grades 3-5\nTeen study class in the classroom - gra
 des 6-12
LAST-MODIFIED:20260422T202333
LOCATION:
SUMMARY:Sunday School
URL;VALUE=URI:https://zoarwv.com/events/sunday-school/2026-10-11
END:VEVENT
END:VCALENDAR
