BEGIN:VCALENDAR
VERSION:2.0
PRODID:icalendar-ruby
CALSCALE:GREGORIAN
METHOD:PUBLISH
BEGIN:VEVENT
DTSTAMP:20260423T035645Z
UID:11-298068@zoarwv.com
DTSTART:20261025T134500Z
DTEND:20261025T144500Z
CLASS:PUBLIC
CREATED:20260422T231803
DESCRIPTION:Adult class in the Sanctuary\nKids classes in the classrooms - 
 nursery\, grades K-2\, grades 3-5\nTeen study class in the classroom - gra
 des 6-12
LAST-MODIFIED:20260422T231803
LOCATION:
SUMMARY:Sunday School
URL;VALUE=URI:https://zoarwv.com/events/sunday-school/2026-10-25
END:VEVENT
END:VCALENDAR
