BEGIN:VCALENDAR
VERSION:2.0
PRODID:icalendar-ruby
CALSCALE:GREGORIAN
METHOD:PUBLISH
BEGIN:VEVENT
DTSTAMP:20260422T203915Z
UID:10-297563@zoarwv.com
DTSTART:20260920T123000Z
DTEND:20260920T133000Z
CLASS:PUBLIC
CREATED:20260422T143640
DESCRIPTION:
LAST-MODIFIED:20260422T143640
LOCATION:
SUMMARY:Worship Service 
URL;VALUE=URI:https://zoarwv.com/events/worship-service--10/2026-09-20
END:VEVENT
END:VCALENDAR
