BEGIN:VCALENDAR
VERSION:2.0
PRODID:icalendar-ruby
CALSCALE:GREGORIAN
METHOD:PUBLISH
BEGIN:VEVENT
DTSTAMP:20260422T214833Z
UID:12-297814@zoarwv.com
DTSTART:20260927T150000Z
DTEND:20260927T161000Z
CLASS:PUBLIC
CREATED:20260422T173210
DESCRIPTION:
LAST-MODIFIED:20260422T173210
LOCATION:
SUMMARY:Worship Service
URL;VALUE=URI:https://zoarwv.com/events/worship-service--12/2026-09-27
END:VEVENT
END:VCALENDAR
